BEGIN:VCALENDAR
PRODID:-//eluceo/ical//2.0/EN
VERSION:2.0
CALSCALE:GREGORIAN
BEGIN:VEVENT
UID:01d6b8c5219c1af48cd6f2bc571731d1
DTSTAMP:20260423T194835Z
SUMMARY:Shrimp & Beer Tour im Feldschlösschen und SwissShrimp
DESCRIPTION:
URL:https://rotaract-solothurn.ch/sv/agenda/show/172746
DTSTART;TZID=Europe/Zurich:20240525T100000
DTEND;TZID=Europe/Zurich:20240525T170000
LOCATION:Rheinfelden AG
CATEGORIES:Rotaract
END:VEVENT
BEGIN:VTIMEZONE
TZID:Europe/Zurich
BEGIN:DAYLIGHT
DTSTART:20240525T100000
TZNAME:CEST
TZOFFSETTO:+0200
TZOFFSETFROM:+0200
END:DAYLIGHT
END:VTIMEZONE
END:VCALENDAR
