BEGIN:VCALENDAR
PRODID:-//eluceo/ical//2.0/EN
VERSION:2.0
CALSCALE:GREGORIAN
BEGIN:VEVENT
UID:327e476256fa24f3bc87dc96f715d700
DTSTAMP:20260425T003117Z
SUMMARY:Grillboot auf der Aare
DESCRIPTION:Webbplats: https://www.grill-boot.ch/
URL:https://rotaract-solothurn.ch/sv/agenda/show/128759
DTSTART;TZID=Europe/Zurich:20210925T140000
DTEND;TZID=Europe/Zurich:20210925T180000
LOCATION:Solothurn / Aarewerft Lehmann
CATEGORIES:Rotaract
END:VEVENT
BEGIN:VTIMEZONE
TZID:Europe/Zurich
BEGIN:DAYLIGHT
DTSTART:20210925T140000
TZNAME:CEST
TZOFFSETTO:+0200
TZOFFSETFROM:+0200
END:DAYLIGHT
END:VTIMEZONE
END:VCALENDAR
