BEGIN:VCALENDAR
PRODID:-//eluceo/ical//2.0/EN
VERSION:2.0
CALSCALE:GREGORIAN
BEGIN:VEVENT
UID:809f3aa43a517409ecb02b7e0e2b9f4f
DTSTAMP:20260420T095656Z
SUMMARY:absacker - CANCELLED
DESCRIPTION:Menu: Jeden zweiten Donnerstag im Monat treffen wir uns ab 17.3
 0 Uhr auf einen absacker im «No.19» in Solothurn.
URL:https://rotaract-solothurn.ch/nl/agenda/show/122374
DTSTART;TZID=Europe/Zurich:20201112T173000
DTEND;TZID=Europe/Zurich:20201112T220000
LOCATION:Solothurn
CATEGORIES:Rotaract
END:VEVENT
BEGIN:VTIMEZONE
TZID:Europe/Zurich
BEGIN:STANDARD
DTSTART:20201112T173000
TZNAME:CET
TZOFFSETTO:+0100
TZOFFSETFROM:+0100
END:STANDARD
END:VTIMEZONE
END:VCALENDAR
