BEGIN:VCALENDAR
PRODID:-//eluceo/ical//2.0/EN
VERSION:2.0
CALSCALE:GREGORIAN
BEGIN:VEVENT
UID:891a62e413420a254caf75cbb4b17b92
DTSTAMP:20260422T131003Z
SUMMARY:Trash Hero Cleanup (Sonntag)
DESCRIPTION:Menu: Wir leisten lokal einen Beitrag zur weltweiten Bewegung "
 Trash Hero" und räumen die Stadt Solothurn auf! \n\nTreffpunkt um 14.00 
 Uhr (Ort siehe https://www.facebook.com/trashherosolothurn/)\n\n 
URL:https://rotaract-solothurn.ch/nl/agenda/show/122040
DTSTART;TZID=Europe/Zurich:20190908T140000
DTEND;TZID=Europe/Zurich:20190908T160000
LOCATION:Solothurn: Ritterquai unter der Rötibrücke
CATEGORIES:Rotaract
END:VEVENT
BEGIN:VTIMEZONE
TZID:Europe/Zurich
BEGIN:DAYLIGHT
DTSTART:20190908T140000
TZNAME:CEST
TZOFFSETTO:+0200
TZOFFSETFROM:+0200
END:DAYLIGHT
END:VTIMEZONE
END:VCALENDAR
