BEGIN:VCALENDAR
PRODID:-//eluceo/ical//2.0/EN
VERSION:2.0
CALSCALE:GREGORIAN
BEGIN:VEVENT
UID:80da4b2cdeefa374b4f02c3c2f0437ae
DTSTAMP:20260424T101254Z
SUMMARY:Kuchenstand 08.09.2018
DESCRIPTION:Menu: Liebe Mitglieder\n\nIhr erhaltet von mir per doodle eine 
 Liste mit den 3 Schichten.\n\nBitte meldet euch trotzdem hier für den Anl
 ass an und tragt euch im Anschluss auf Doodle ein.\n\n \n\nMerci vielmals
 .\n\n \n\nLiebe Grüsse\n\n \n\nDelia
URL:https://rotaract-solothurn.ch/nl/agenda/show/121616
DTSTART;TZID=Europe/Zurich:20180908T071500
DTEND;TZID=Europe/Zurich:20180908T130000
LOCATION:RAC Solothurn
CATEGORIES:Rotaract
END:VEVENT
BEGIN:VTIMEZONE
TZID:Europe/Zurich
BEGIN:DAYLIGHT
DTSTART:20180908T071500
TZNAME:CEST
TZOFFSETTO:+0200
TZOFFSETFROM:+0200
END:DAYLIGHT
END:VTIMEZONE
END:VCALENDAR
