BEGIN:VCALENDAR
PRODID:-//eluceo/ical//2.0/EN
VERSION:2.0
CALSCALE:GREGORIAN
BEGIN:VEVENT
UID:7762bf4802526ae1e285eb654b99aa53
DTSTAMP:20260424T102016Z
SUMMARY:ÖUFI-STAMM  28.09.2018
DESCRIPTION:Menu: Wir treffen uns vor dem Restaurant Nonna Rosetta in der V
 orstadt von Solothurn zu einem klassischen Öufi-Stamm.
URL:https://rotaract-solothurn.ch/nl/agenda/show/121612
DTSTART;TZID=Europe/Zurich:20180928T190000
DTEND;TZID=Europe/Zurich:20180928T230000
LOCATION:RAC Solothurn
CATEGORIES:Rotaract
END:VEVENT
BEGIN:VTIMEZONE
TZID:Europe/Zurich
BEGIN:DAYLIGHT
DTSTART:20180928T190000
TZNAME:CEST
TZOFFSETTO:+0200
TZOFFSETFROM:+0200
END:DAYLIGHT
END:VTIMEZONE
END:VCALENDAR
