BEGIN:VCALENDAR
PRODID:-//eluceo/ical//2.0/EN
VERSION:2.0
CALSCALE:GREGORIAN
BEGIN:VEVENT
UID:9c4c4d72698d7bf3f6605875082de3e1
DTSTAMP:20260424T102205Z
SUMMARY:Street Food Festival 24. August 2018
DESCRIPTION:Menu: Es ist wieder so weit.\n\nDas Street Food Festival kommt 
 wieder in unsere schöne Stadt.\n\nWir treffen uns um 19.00 Uhr auf dem Pa
 rkplatz bei der Badi Solothurn. Dort werden wir einen kleinen Drink zu uns
  nehmen.\n\nDanach werden wir gemeinsam durch die Stände des Festivals be
 im Kofmehl flanieren und Schlemmen\, was das Zeug hält.\n\n \n\nIch freu
 e mich auf euch!\n\n \n\nEure Delia
URL:https://rotaract-solothurn.ch/nl/agenda/show/121611
DTSTART;TZID=Europe/Zurich:20180824T190000
DTEND;TZID=Europe/Zurich:20180824T230000
LOCATION:RAC Solothurn
CATEGORIES:Rotaract
END:VEVENT
BEGIN:VTIMEZONE
TZID:Europe/Zurich
BEGIN:DAYLIGHT
DTSTART:20180824T190000
TZNAME:CEST
TZOFFSETTO:+0200
TZOFFSETFROM:+0200
END:DAYLIGHT
END:VTIMEZONE
END:VCALENDAR
