BEGIN:VCALENDAR
PRODID:-//eluceo/ical//2.0/EN
VERSION:2.0
CALSCALE:GREGORIAN
BEGIN:VEVENT
UID:ebeefea7102d935f0c1d375ad4f1ac80
DTSTAMP:20260424T101407Z
SUMMARY:Slow-Up Buechibärg 27.05.2018
DESCRIPTION:Menu: Der Slow- up Bucheggberg findet am 27.05.2018 statt.\n\nI
 n den letzten Jahren war unser Club an diesem Event stets gut vertreten. A
 us diesem Grund wäre es schön\, wenn wir auch in diesem Jahr wieder ein
 e kleine Gruppe stellen könnten.\n\n \n\nLiebe Grüsse\n\n \n\nDelia
URL:https://rotaract-solothurn.ch/nl/agenda/show/121547
DTSTART;TZID=Europe/Zurich:20180527T000000
DTEND;TZID=Europe/Zurich:20180527T000000
LOCATION:RAC Solothurn
CATEGORIES:Rotaract
END:VEVENT
BEGIN:VTIMEZONE
TZID:Europe/Zurich
BEGIN:DAYLIGHT
DTSTART:20180527T000000
TZNAME:CEST
TZOFFSETTO:+0200
TZOFFSETFROM:+0200
END:DAYLIGHT
END:VTIMEZONE
END:VCALENDAR
