BEGIN:VCALENDAR
PRODID:-//eluceo/ical//2.0/EN
VERSION:2.0
CALSCALE:GREGORIAN
BEGIN:VEVENT
UID:6a19fdc78609427a8175d98a0824a2ba
DTSTAMP:20260424T101832Z
SUMMARY:Öufistamm in der Öufi-Beiz
DESCRIPTION:Menu: Wir treffen uns um 19.00 Uhr in der Öufi–Beiz in Solot
 hurn. Dort werden wir im Biergarten leckeres Essen und natürlich die Bie
 re der Öufi–Beiz geniessen können.\n\nÜber eine rasche Anmeldung bin 
 ich euch sehr dankbar.\n\nSofern wir genug TeilnehmerInnen sind\, kann i
 ch eine Führung durch die Brauerei organisieren\, was sicher sehr spannen
 d wäre.\n\n \n\nIch freue mich auf einen tollen Anlass.\n\n \n\nLiebe G
 rüsse \n\n \n\nDelia
URL:https://rotaract-solothurn.ch/nl/agenda/show/121417
DTSTART;TZID=Europe/Zurich:20180525T190000
DTEND;TZID=Europe/Zurich:20180525T190000
LOCATION:RAC Solothurn
CATEGORIES:Rotaract
END:VEVENT
BEGIN:VTIMEZONE
TZID:Europe/Zurich
BEGIN:DAYLIGHT
DTSTART:20180525T190000
TZNAME:CEST
TZOFFSETTO:+0200
TZOFFSETFROM:+0200
END:DAYLIGHT
END:VTIMEZONE
END:VCALENDAR
