BEGIN:VCALENDAR
PRODID:-//eluceo/ical//2.0/EN
VERSION:2.0
CALSCALE:GREGORIAN
BEGIN:VEVENT
UID:84ccd997fbe50b060354850e14f8a89c
DTSTAMP:20260422T093843Z
SUMMARY:Kuchenstand
DESCRIPTION:Menu: Rotaract Solothurn backt!\n\nAm Bieltor werden wir lecker
 e Kuchen\, Guezli usw. verkaufen und so Geld für unsere Sozialprojekte sa
 mmeln.\n\nLet's bake!
URL:https://rotaract-solothurn.ch/nl/agenda/show/121260
DTSTART;TZID=Europe/Zurich:20170923T071500
DTEND;TZID=Europe/Zurich:20170923T071500
LOCATION:RAC Solothurn
CATEGORIES:Rotaract
END:VEVENT
BEGIN:VTIMEZONE
TZID:Europe/Zurich
BEGIN:DAYLIGHT
DTSTART:20170923T071500
TZNAME:CEST
TZOFFSETTO:+0200
TZOFFSETFROM:+0200
END:DAYLIGHT
END:VTIMEZONE
END:VCALENDAR
