BEGIN:VCALENDAR
PRODID:-//eluceo/ical//2.0/EN
VERSION:2.0
CALSCALE:GREGORIAN
BEGIN:VEVENT
UID:0f50e71906a58d40bf78949fe518f7c5
DTSTAMP:20260420T091132Z
SUMMARY:Distriktevent
DESCRIPTION:Menu: Informationen durch Distrikt.\n\nAnmeldung via:\n\nhttps:
 //www.crsl.ch/de/activities/agenda/
URL:https://rotaract-solothurn.ch/nl/agenda/show/121123
DTSTART;TZID=Europe/Zurich:20170218T000000
DTEND;TZID=Europe/Zurich:20170218T000000
LOCATION:Melchsee-Frutt
CATEGORIES:Rotaract
END:VEVENT
BEGIN:VTIMEZONE
TZID:Europe/Zurich
BEGIN:STANDARD
DTSTART:20170218T000000
TZNAME:CET
TZOFFSETTO:+0100
TZOFFSETFROM:+0100
END:STANDARD
END:VTIMEZONE
END:VCALENDAR
