BEGIN:VCALENDAR
PRODID:-//eluceo/ical//2.0/EN
VERSION:2.0
CALSCALE:GREGORIAN
BEGIN:VEVENT
UID:6761fd5c9086356bb355735ba0bc73e5
DTSTAMP:20260422T040005Z
SUMMARY:Interessenten-Anlass Genusstour
DESCRIPTION:Sito web: http://www.rotaract-solothurn.ch/club/activities/agen
 da.php
URL:https://rotaract-solothurn.ch/it/agenda/show/137628
DTSTART;TZID=Europe/Zurich:20220305T133000
DTEND;TZID=Europe/Zurich:20220305T173000
LOCATION:Treffpunkt: Hauptbahnhof Solothurn vor dem Avec
CATEGORIES:Rotaract
END:VEVENT
BEGIN:VTIMEZONE
TZID:Europe/Zurich
BEGIN:STANDARD
DTSTART:20220305T133000
TZNAME:CET
TZOFFSETTO:+0100
TZOFFSETFROM:+0100
END:STANDARD
END:VTIMEZONE
END:VCALENDAR
