BEGIN:VCALENDAR
PRODID:-//eluceo/ical//2.0/EN
VERSION:2.0
CALSCALE:GREGORIAN
BEGIN:VEVENT
UID:48638067f940cad4da57e8c3503dcada
DTSTAMP:20260423T091107Z
SUMMARY:10 Jahre RAC Sempachersee
DESCRIPTION:Valmynd: https://sempachersee.rotaract.ch/de/activities/agenda/
 1251/10-jahres-jubilaeum?SID=f427717fba9da22a54e5cffad3caadcb
URL:https://rotaract-solothurn.ch/is/agenda/show/121675
DTSTART;TZID=Europe/Zurich:20180330T000000
DTEND;TZID=Europe/Zurich:20180330T000000
LOCATION:RAC Solothurn
CATEGORIES:Rotaract
END:VEVENT
BEGIN:VTIMEZONE
TZID:Europe/Zurich
BEGIN:DAYLIGHT
DTSTART:20180330T000000
TZNAME:CEST
TZOFFSETTO:+0200
TZOFFSETFROM:+0200
END:DAYLIGHT
END:VTIMEZONE
END:VCALENDAR
