BEGIN:VCALENDAR
PRODID:-//eluceo/ical//2.0/EN
VERSION:2.0
CALSCALE:GREGORIAN
BEGIN:VEVENT
UID:42288fb7d291b860123f01b32cf1cfc9
DTSTAMP:20260425T103222Z
SUMMARY:10 Jahre RAC Glarus
DESCRIPTION:Valmynd: Mehr Infos unter: https://glarus.rotaract.ch/de/activ
 ities/agenda/1310/10-jahre-rotaract-glarus?SID=f427717fba9da22a54e5cffad3c
 aadcb
URL:https://rotaract-solothurn.ch/is/agenda/show/121673
DTSTART;TZID=Europe/Zurich:20180929T000000
DTEND;TZID=Europe/Zurich:20180929T000000
LOCATION:RAC Solothurn
CATEGORIES:Rotaract
END:VEVENT
BEGIN:VTIMEZONE
TZID:Europe/Zurich
BEGIN:DAYLIGHT
DTSTART:20180929T000000
TZNAME:CEST
TZOFFSETTO:+0200
TZOFFSETFROM:+0200
END:DAYLIGHT
END:VTIMEZONE
END:VCALENDAR
