BEGIN:VCALENDAR
PRODID:-//eluceo/ical//2.0/EN
VERSION:2.0
CALSCALE:GREGORIAN
BEGIN:VEVENT
UID:b71c54ab6fadd53830d6708545e04970
DTSTAMP:20260425T125810Z
SUMMARY:Distriktevent 1980 10.03.-11.03.18
DESCRIPTION:Vom 10. März bis 11. März 2018 findet der Distriktevent usere
 s Distriktes 1980 im wunderschönen Kanton Tessin statt.\n\n \n\nAnmeldun
 g unter folgendem Link: https://www.crsl.ch/de/activities/agenda/\nValmyn
 d: om 10. März bis 11. März 2018 findet der Distriktevent useres Distrik
 tes 1980 im wunderschönen Kanton Tessin statt.\n\n \n\nAnmeldung unter f
 olgendem Link: https://www.crsl.ch/de/activities/agenda/
URL:https://rotaract-solothurn.ch/is/agenda/show/121437
DTSTART;TZID=Europe/Zurich:20180113T000000
DTEND;TZID=Europe/Zurich:20180113T000000
LOCATION:RAC Solothurn
CATEGORIES:Rotaract
END:VEVENT
BEGIN:VTIMEZONE
TZID:Europe/Zurich
BEGIN:STANDARD
DTSTART:20180113T000000
TZNAME:CET
TZOFFSETTO:+0100
TZOFFSETFROM:+0100
END:STANDARD
END:VTIMEZONE
END:VCALENDAR
