BEGIN:VCALENDAR
PRODID:-//eluceo/ical//2.0/EN
VERSION:2.0
CALSCALE:GREGORIAN
BEGIN:VEVENT
UID:d32221eb7a1a2f138546e525659f1232
DTSTAMP:20260425T103758Z
SUMMARY:Öufistamm mit Vortrag von Shelter Box
DESCRIPTION:Nachdem wir im September 2017 erfolgreich Geld für Shelterbox 
 gesammelt haben\, können wir uns nun auf einen spannenden Vortrag der Org
 anisation freuen.\n\nWir treffen uns um 19.00 Uhr im Egge 14 (ehm. AnaCap
 ri).\n\n \n\nWir feuen uns auf einen tollen Anlass.\n\n \n\n 
URL:https://rotaract-solothurn.ch/is/agenda/show/121416
DTSTART;TZID=Europe/Zurich:20180427T190000
DTEND;TZID=Europe/Zurich:20180427T190000
LOCATION:RAC Solothurn
CATEGORIES:Rotaract
END:VEVENT
BEGIN:VTIMEZONE
TZID:Europe/Zurich
BEGIN:DAYLIGHT
DTSTART:20180427T190000
TZNAME:CEST
TZOFFSETTO:+0200
TZOFFSETFROM:+0200
END:DAYLIGHT
END:VTIMEZONE
END:VCALENDAR
