BEGIN:VCALENDAR
PRODID:-//eluceo/ical//2.0/EN
VERSION:2.0
CALSCALE:GREGORIAN
BEGIN:VEVENT
UID:c0a4e1af9946f4536c5cb417edc53c12
DTSTAMP:20260419T133806Z
SUMMARY:Sozialanlass "insieme"
DESCRIPTION:Valmynd: In Zusammenarbeit mit dem Rotary Club Solothurn unters
 tützen wir die Organisation Insieme bei ihrem jährlichen Kinderfest in d
 er Turnhalle im Schulhaus Brühl in Solothurn. Wir helfen beim Aufbau des 
 Kletterturms (mit fachlicher Unterstützung des SAC Lyss) am Morgen\, bei 
 der Betreuung während dem Anlass und dem anschliessenden Abbau.\n 
URL:https://rotaract-solothurn.ch/is/agenda/show/121184
DTSTART;TZID=Europe/Zurich:20170304T000000
DTEND;TZID=Europe/Zurich:20170304T000000
LOCATION:RAC Solothurn
CATEGORIES:Rotaract
END:VEVENT
BEGIN:VTIMEZONE
TZID:Europe/Zurich
BEGIN:STANDARD
DTSTART:20170304T000000
TZNAME:CET
TZOFFSETTO:+0100
TZOFFSETFROM:+0100
END:STANDARD
END:VTIMEZONE
END:VCALENDAR
