BEGIN:VCALENDAR
PRODID:-//eluceo/ical//2.0/EN
VERSION:2.0
CALSCALE:GREGORIAN
BEGIN:VEVENT
UID:abcb103d15c54db0842fb52fcb09332c
DTSTAMP:20260425T103603Z
SUMMARY:Öufi-Stamm
DESCRIPTION:Valmynd: Wir treffen uns zu einem gemütlichen Abendessen in ei
 nem Restaurant in Solothurn. (Wird via WhatsApp bekannt gegeben.) Danach 
 gibt es eine spontane Bartour durch Solothurn. Da am nächsten Tag die GV
  stattfindet\, gibt es keinen offiziellen Teil. \n\nWünsche bezüglich R
 estaurant bitte an Andrea melden.
URL:https://rotaract-solothurn.ch/is/agenda/show/121121
DTSTART;TZID=Europe/Zurich:20170630T190000
DTEND;TZID=Europe/Zurich:20170630T190000
LOCATION:RAC Solothurn
CATEGORIES:Rotaract
END:VEVENT
BEGIN:VTIMEZONE
TZID:Europe/Zurich
BEGIN:DAYLIGHT
DTSTART:20170630T190000
TZNAME:CEST
TZOFFSETTO:+0200
TZOFFSETFROM:+0200
END:DAYLIGHT
END:VTIMEZONE
END:VCALENDAR
