BEGIN:VCALENDAR
PRODID:-//eluceo/ical//2.0/EN
VERSION:2.0
CALSCALE:GREGORIAN
BEGIN:VEVENT
UID:22bc179ba165257ed0143a73a3118005
DTSTAMP:20260425T103706Z
SUMMARY:Adventure Room Solothurn
DESCRIPTION:Valmynd: Zuerst treten wir in den AdventureRooms in zwei Gruppe
 n gegeneinander an. Anschliessend essen wir gemeinsam im Restaurant Volksh
 aus.\n\n                                 
                                      
                                      
            \n\nDatum: Freitag 28.04.17\n\nZeit: 18.45 Uhr\n\nTr
 effpunkt: Volkshaus/ Rossmarktplatz 2/ 4500 Solothurn\n\nKosten: 25.- pro 
 Person / Exkl. Essen und Trinken/ bitte passend mitbringen
URL:https://rotaract-solothurn.ch/is/agenda/show/121119
DTSTART;TZID=Europe/Zurich:20170428T185000
DTEND;TZID=Europe/Zurich:20170428T185000
LOCATION:Solothurn
CATEGORIES:Rotaract
END:VEVENT
BEGIN:VTIMEZONE
TZID:Europe/Zurich
BEGIN:DAYLIGHT
DTSTART:20170428T185000
TZNAME:CEST
TZOFFSETTO:+0200
TZOFFSETFROM:+0200
END:DAYLIGHT
END:VTIMEZONE
END:VCALENDAR
