BEGIN:VCALENDAR
PRODID:-//eluceo/ical//2.0/EN
VERSION:2.0
CALSCALE:GREGORIAN
BEGIN:VEVENT
UID:ecaebd18166f0482d149018bb8d6ab5d
DTSTAMP:20260421T081342Z
SUMMARY:Plausch-Stamm
DESCRIPTION:Valmynd: Hallo zusammen\, ich freue mich auf die erste Ausgabe 
 des Plausch-Stamms. Hier noch einige Informationen.\n\nVon 19.00 Uhr bis 2
 0.00 Uhr bowlen wir gemeinsam\, dann fahren wir nach Solothurn und lassen 
 uns in der Trattoria Napoli mit Italienischen Spezialitäten verwöhnen.\n
 \nBowling:                                
                                      
                                    \n\nT
 reffpunkt:     Bowling Center Bellach\n\n              
           Gewerbestrasse 19A\n\n                
         4512 Bellach\n\nZeit:                 18.50
  Uhr\n\nAnreise Zug:    Solothurn        ab        18.39 
 Uhr\n\n                        Bellach      
       an        18.43 Uhr\n\n                
         Zugreisende bitte bei Andrea melden\, ich hole euch vom Bah
 nhof ab.\n\nKosten:             7.- pro Person exkl. Essen (b
 itte passend mitbringen)\n\nEssen:             \n\nTreffpunkt:
      Trattoria Napoli\n\n                      
   Adlergasse 1\n\n                        4500 Sol
 othurn\n\nZeit:                 20.15 Uhr\n\nAnmeldung: 
    Bis 27.09.15 (bitte an- und abmelden via Homepage!!!)\n\n      
                   Wenn jemand nur eine Aktivität besucht
 \, bitte bei der Anmeldung vermerken.
URL:https://rotaract-solothurn.ch/is/agenda/show/120666
DTSTART;TZID=Europe/Zurich:20150929T190000
DTEND;TZID=Europe/Zurich:20150929T190000
LOCATION:Bowling Center Bellach
CATEGORIES:Rotaract
END:VEVENT
BEGIN:VTIMEZONE
TZID:Europe/Zurich
BEGIN:DAYLIGHT
DTSTART:20150929T190000
TZNAME:CEST
TZOFFSETTO:+0200
TZOFFSETFROM:+0200
END:DAYLIGHT
END:VTIMEZONE
END:VCALENDAR
