BEGIN:VCALENDAR
PRODID:-//eluceo/ical//2.0/EN
VERSION:2.0
CALSCALE:GREGORIAN
BEGIN:VEVENT
UID:b6b121b561b360e6eb56a4b34fd7d9fa
DTSTAMP:20260422T094304Z
SUMMARY:Apéro & Stamm
DESCRIPTION:Site internet: http://www.rotaract-solothurn.ch/club/activities
 /agenda.php
URL:https://rotaract-solothurn.ch/fr/agenda/show/166413
DTSTART;TZID=Europe/Zurich:20230929T190000
DTEND;TZID=Europe/Zurich:20230929T220000
LOCATION:The Dock Bar in Solothurn\, anschl. Abendessen im Akropolis
CATEGORIES:Rotaract
END:VEVENT
BEGIN:VTIMEZONE
TZID:Europe/Zurich
BEGIN:DAYLIGHT
DTSTART:20230929T190000
TZNAME:CEST
TZOFFSETTO:+0200
TZOFFSETFROM:+0200
END:DAYLIGHT
END:VTIMEZONE
END:VCALENDAR
