BEGIN:VCALENDAR
PRODID:-//eluceo/ical//2.0/EN
VERSION:2.0
CALSCALE:GREGORIAN
BEGIN:VEVENT
UID:44ff8056c9a150d8844b74d5a558bd6d
DTSTAMP:20260421T182530Z
SUMMARY:Golf Schnupperkurs
DESCRIPTION:Site internet: https://www.golfclub.ch/
URL:https://rotaract-solothurn.ch/fr/agenda/show/138732
DTSTART;TZID=Europe/Zurich:20220611T153000
DTEND;TZID=Europe/Zurich:20220611T173000
LOCATION:Golfclub Wylihof in Luterbach
CATEGORIES:Rotaract
END:VEVENT
BEGIN:VTIMEZONE
TZID:Europe/Zurich
BEGIN:DAYLIGHT
DTSTART:20220611T153000
TZNAME:CEST
TZOFFSETTO:+0200
TZOFFSETFROM:+0200
END:DAYLIGHT
END:VTIMEZONE
END:VCALENDAR
