BEGIN:VCALENDAR
PRODID:-//eluceo/ical//2.0/EN
VERSION:2.0
CALSCALE:GREGORIAN
BEGIN:VEVENT
UID:eb8d17a79c7bedb18a3e08acf93fe842
DTSTAMP:20260421T182819Z
SUMMARY:Besuch der Governess
DESCRIPTION:Site internet: http://www.rotaract-solothurn.ch/club/activities
 /agenda.php
URL:https://rotaract-solothurn.ch/fr/agenda/show/138126
DTSTART;TZID=Europe/Zurich:20220429T183000
DTEND;TZID=Europe/Zurich:20220429T183000
LOCATION:Coworking Space Uferbau\, 3. OG\, Raum Ambassador
CATEGORIES:Rotaract
END:VEVENT
BEGIN:VTIMEZONE
TZID:Europe/Zurich
BEGIN:DAYLIGHT
DTSTART:20220429T183000
TZNAME:CEST
TZOFFSETTO:+0200
TZOFFSETFROM:+0200
END:DAYLIGHT
END:VTIMEZONE
END:VCALENDAR
