BEGIN:VCALENDAR
PRODID:-//eluceo/ical//2.0/EN
VERSION:2.0
CALSCALE:GREGORIAN
BEGIN:VEVENT
UID:9a28e781c9ce588375da7fce8e2eeb8a
DTSTAMP:20260421T165618Z
SUMMARY:Skitag Grindelwald
DESCRIPTION:
URL:https://rotaract-solothurn.ch/fr/agenda/show/137609
DTSTART;TZID=Europe/Zurich:20220129T060000
DTEND;TZID=Europe/Zurich:20220129T200000
LOCATION:Skigebiet Grindelwald
CATEGORIES:Rotaract
END:VEVENT
BEGIN:VTIMEZONE
TZID:Europe/Zurich
BEGIN:STANDARD
DTSTART:20220129T060000
TZNAME:CET
TZOFFSETTO:+0100
TZOFFSETFROM:+0100
END:STANDARD
END:VTIMEZONE
END:VCALENDAR
