BEGIN:VCALENDAR
PRODID:-//eluceo/ical//2.0/EN
VERSION:2.0
CALSCALE:GREGORIAN
BEGIN:VEVENT
UID:fb35558d4885c639b603ae5c722adf9c
DTSTAMP:20260425T161455Z
SUMMARY:absacker
DESCRIPTION:Menu: cheers!\n\njeden zweiten donnerstag im momnat treffen wir
  uns ab 17.30 uhr auf einen absacker im No.19 in solothurn.\n\nwir freuen 
 uns!\n\n*keine anmeldung erforderlich*
URL:https://rotaract-solothurn.ch/fr/agenda/show/122282
DTSTART;TZID=Europe/Zurich:20200709T173000
DTEND;TZID=Europe/Zurich:20200709T235900
LOCATION:No.19\, Theatergasse 19\, 4500 Solothurn
CATEGORIES:Rotaract
END:VEVENT
BEGIN:VTIMEZONE
TZID:Europe/Zurich
BEGIN:DAYLIGHT
DTSTART:20200709T173000
TZNAME:CEST
TZOFFSETTO:+0200
TZOFFSETFROM:+0200
END:DAYLIGHT
END:VTIMEZONE
END:VCALENDAR
