BEGIN:VCALENDAR
PRODID:-//eluceo/ical//2.0/EN
VERSION:2.0
CALSCALE:GREGORIAN
BEGIN:VEVENT
UID:53b582b6bcecc8f536641cd3171d823e
DTSTAMP:20260425T174501Z
SUMMARY:KARTFAHREN & GRILLPLAUSCH
DESCRIPTION:Menu: FUNEVENT\n\nAusflug auf die Kartbahn Lyss mit anschliesse
 ndem Grillplausch!\n\nProgramm:\n\n16:30 bis 17:00 Uhr\, Eintreffen auf de
 r Kartbahn\n\n17:00 bis 17:30 Uhr\, Apéro\n\n18:00 bis 18:30 Uhr\, Renne
 n\n\ndanach: Grillplausch\n\nSelbstkostenanteil Mitglied bei 50 Franken\nS
 ite internet: http://www.kartbahnlyss.ch/
URL:https://rotaract-solothurn.ch/fr/agenda/show/122273
DTSTART;TZID=Europe/Zurich:20200725T170000
DTEND;TZID=Europe/Zurich:20200725T190000
LOCATION:Kartbahn Lyss\, Lyssstrasse 31\, 3273 Kappelen
CATEGORIES:Rotaract
END:VEVENT
BEGIN:VTIMEZONE
TZID:Europe/Zurich
BEGIN:DAYLIGHT
DTSTART:20200725T170000
TZNAME:CEST
TZOFFSETTO:+0200
TZOFFSETFROM:+0200
END:DAYLIGHT
END:VTIMEZONE
END:VCALENDAR
