BEGIN:VCALENDAR
PRODID:-//eluceo/ical//2.0/EN
VERSION:2.0
CALSCALE:GREGORIAN
BEGIN:VEVENT
UID:f8125ba6ef3e29404c77e36d3fcddc83
DTSTAMP:20260421T184408Z
SUMMARY:Luzerner Stadtlauf (Water Survival Box) - CANCELLED!
DESCRIPTION:Menu: DER LUZERNER STADTAUF FINDET AUFGRUND DER CORONAKRISE NIC
 HT STATT!\n\nhttps://www.rotary1980.ch/en/activities/agenda/113996/run-for
 -water-luzern\nSite internet: https://www.luzernerstadtlauf.ch/
URL:https://rotaract-solothurn.ch/fr/agenda/show/122248
DTSTART;TZID=Europe/Zurich:20200425T000000
DTEND;TZID=Europe/Zurich:20200425T000000
LOCATION:Luzern
CATEGORIES:Rotaract
END:VEVENT
BEGIN:VTIMEZONE
TZID:Europe/Zurich
BEGIN:DAYLIGHT
DTSTART:20200425T000000
TZNAME:CEST
TZOFFSETTO:+0200
TZOFFSETFROM:+0200
END:DAYLIGHT
END:VTIMEZONE
END:VCALENDAR
