BEGIN:VCALENDAR
PRODID:-//eluceo/ical//2.0/EN
VERSION:2.0
CALSCALE:GREGORIAN
BEGIN:VEVENT
UID:597036c38c0f9a03b00c6dd80f3bdc70
DTSTAMP:20260425T141725Z
SUMMARY:Öufi-Stamm
DESCRIPTION:
URL:https://rotaract-solothurn.ch/fr/agenda/show/120421
DTSTART;TZID=Europe/Zurich:20150526T190000
DTEND;TZID=Europe/Zurich:20150526T190000
LOCATION:Pizzeria zum Grüene Egge
CATEGORIES:Rotaract
END:VEVENT
BEGIN:VTIMEZONE
TZID:Europe/Zurich
BEGIN:DAYLIGHT
DTSTART:20150526T190000
TZNAME:CEST
TZOFFSETTO:+0200
TZOFFSETFROM:+0200
END:DAYLIGHT
END:VTIMEZONE
END:VCALENDAR
