BEGIN:VCALENDAR
PRODID:-//eluceo/ical//2.0/EN
VERSION:2.0
CALSCALE:GREGORIAN
BEGIN:VEVENT
UID:0aa858e6dbeb60e2b3c6255982ba6278
DTSTAMP:20260421T223435Z
SUMMARY:MINI-GV & ÖUFISTAMM mit kulinarischer Überraschung
DESCRIPTION:Menú: Infos folgen.
URL:https://rotaract-solothurn.ch/es/agenda/show/122383
DTSTART;TZID=Europe/Zurich:20210226T183000
DTEND;TZID=Europe/Zurich:20210226T220000
LOCATION:Solothurn
CATEGORIES:Rotaract
END:VEVENT
BEGIN:VTIMEZONE
TZID:Europe/Zurich
BEGIN:STANDARD
DTSTART:20210226T183000
TZNAME:CET
TZOFFSETTO:+0100
TZOFFSETFROM:+0100
END:STANDARD
END:VTIMEZONE
END:VCALENDAR
