BEGIN:VCALENDAR
PRODID:-//eluceo/ical//2.0/EN
VERSION:2.0
CALSCALE:GREGORIAN
BEGIN:VEVENT
UID:d872e7cd8d125f9e70dad042b6d6d46b
DTSTAMP:20260423T102022Z
SUMMARY:Digitaler Stamm
DESCRIPTION:Menú: Der entfallene Stamm vom März wird ersetzt mit einer Vi
 deokonferenz.\n\nErstell dir einen kostenlosen Account auf  https://www
 .freeconferencecall.com/de/ch\, um beim nächsten Rotaract-Chat dabei zu 
 sein :)\nSitio web: https://www.freeconferencecall.com/de/ch
URL:https://rotaract-solothurn.ch/es/agenda/show/122256
DTSTART;TZID=Europe/Zurich:20200416T200000
DTEND;TZID=Europe/Zurich:20200416T220000
LOCATION:online
CATEGORIES:Rotaract
END:VEVENT
BEGIN:VTIMEZONE
TZID:Europe/Zurich
BEGIN:DAYLIGHT
DTSTART:20200416T200000
TZNAME:CEST
TZOFFSETTO:+0200
TZOFFSETFROM:+0200
END:DAYLIGHT
END:VTIMEZONE
END:VCALENDAR
