BEGIN:VCALENDAR
PRODID:-//eluceo/ical//2.0/EN
VERSION:2.0
CALSCALE:GREGORIAN
BEGIN:VEVENT
UID:10cdf979a595bb7000ea82622fde8a49
DTSTAMP:20260421T172515Z
SUMMARY:Stamm
DESCRIPTION:Menú: Weitere Infos folgen...
URL:https://rotaract-solothurn.ch/es/agenda/show/122246
DTSTART;TZID=Europe/Zurich:20200424T190000
DTEND;TZID=Europe/Zurich:20200424T210000
LOCATION:Solothurn
CATEGORIES:Rotaract
END:VEVENT
BEGIN:VTIMEZONE
TZID:Europe/Zurich
BEGIN:DAYLIGHT
DTSTART:20200424T190000
TZNAME:CEST
TZOFFSETTO:+0200
TZOFFSETFROM:+0200
END:DAYLIGHT
END:VTIMEZONE
END:VCALENDAR
