BEGIN:VCALENDAR
PRODID:-//eluceo/ical//2.0/EN
VERSION:2.0
CALSCALE:GREGORIAN
BEGIN:VEVENT
UID:12d8608bfb5e490f09150b6f9251cdaa
DTSTAMP:20260421T190109Z
SUMMARY:Stamm mit Governor + Distriktsprecherinnen
DESCRIPTION:Menú: Wir werden im Egge 14 Znacht essen. Zu Besuch sind der 
 Governor sowie 2 Distriktsprecherinnen\, die zwei\, drei Worte über das a
 ktuelle Rotaract / Rotary Geschehen verlieren werden... 
URL:https://rotaract-solothurn.ch/es/agenda/show/122165
DTSTART;TZID=Europe/Zurich:20200131T190000
DTEND;TZID=Europe/Zurich:20200131T230000
LOCATION:Restaurant „Egge 14“\, Solothurn
CATEGORIES:Rotaract
END:VEVENT
BEGIN:VTIMEZONE
TZID:Europe/Zurich
BEGIN:STANDARD
DTSTART:20200131T190000
TZNAME:CET
TZOFFSETTO:+0100
TZOFFSETFROM:+0100
END:STANDARD
END:VTIMEZONE
END:VCALENDAR
