BEGIN:VCALENDAR
PRODID:-//eluceo/ical//2.0/EN
VERSION:2.0
CALSCALE:GREGORIAN
BEGIN:VEVENT
UID:0c42621e677ca061e4376c845bdc3229
DTSTAMP:20260421T204106Z
SUMMARY:Kuchenstand Bieltor (Samstag)
DESCRIPTION:Menú: Für jede Schicht braucht es 2 Leute:\n\n1.     7.00 
 - 9.00 Uhr\n\n2.     9.00 - 11.00 Uhr\n\n3.     11.00 - 13.00 Uhr\n\
 nBitte bei der Anmeldung im Kommentar die gewünschte Schicht notieren. 
 \n\n \n\nWer nicht an den Stand gehen kann\, liefert bitte 1-2 Gebäcke o
 . Ä.\n\nAuch die Gebäcke per Anmeldung(!) im Kommentar notieren.
URL:https://rotaract-solothurn.ch/es/agenda/show/122043
DTSTART;TZID=Europe/Zurich:20191123T070000
DTEND;TZID=Europe/Zurich:20191123T130000
LOCATION:Bieltor\, Solothurn
CATEGORIES:Rotaract
END:VEVENT
BEGIN:VTIMEZONE
TZID:Europe/Zurich
BEGIN:STANDARD
DTSTART:20191123T070000
TZNAME:CET
TZOFFSETTO:+0100
TZOFFSETFROM:+0100
END:STANDARD
END:VTIMEZONE
END:VCALENDAR
