BEGIN:VCALENDAR
PRODID:-//eluceo/ical//2.0/EN
VERSION:2.0
CALSCALE:GREGORIAN
BEGIN:VEVENT
UID:b779713f7e18748adbe81b2bd5a8e96e
DTSTAMP:20260423T124538Z
SUMMARY:Apéro & Stamm
DESCRIPTION:Website: http://www.rotaract-solothurn.ch/club/activities/agend
 a.php
URL:https://rotaract-solothurn.ch/en/agenda/show/166418
DTSTART;TZID=Europe/Zurich:20231027T190000
DTEND;TZID=Europe/Zurich:20231027T230000
LOCATION:Grenchen SO\, Stadt Solothurn
CATEGORIES:Rotaract
END:VEVENT
BEGIN:VTIMEZONE
TZID:Europe/Zurich
BEGIN:DAYLIGHT
DTSTART:20231027T190000
TZNAME:CEST
TZOFFSETTO:+0200
TZOFFSETFROM:+0200
END:DAYLIGHT
END:VTIMEZONE
END:VCALENDAR
