BEGIN:VCALENDAR
PRODID:-//eluceo/ical//2.0/EN
VERSION:2.0
CALSCALE:GREGORIAN
BEGIN:VEVENT
UID:b488cfc46dadf0a6a41022d9490b3ec1
DTSTAMP:20260422T092234Z
SUMMARY:Geburiapéro
DESCRIPTION:Im Rahmen des dreijährigen Bestehens lädt der Club zum Patenc
 lub-Apéro!
URL:https://rotaract-solothurn.ch/en/agenda/show/120416
DTSTART;TZID=Europe/Zurich:20141111T190000
DTEND;TZID=Europe/Zurich:20141111T190000
LOCATION:SolHeure
CATEGORIES:Rotaract
END:VEVENT
BEGIN:VTIMEZONE
TZID:Europe/Zurich
BEGIN:STANDARD
DTSTART:20141111T190000
TZNAME:CET
TZOFFSETTO:+0100
TZOFFSETFROM:+0100
END:STANDARD
END:VTIMEZONE
END:VCALENDAR
