BEGIN:VCALENDAR
PRODID:-//eluceo/ical//2.0/EN
VERSION:2.0
CALSCALE:GREGORIAN
BEGIN:VEVENT
UID:1d329fc7e2f1054d79ea3993c2efdd06
DTSTAMP:20260422T232308Z
SUMMARY:RAC D1980 DISTRIKTANLASS
DESCRIPTION:
URL:https://rotaract-solothurn.ch/bs/agenda/show/173017
DTSTART;TZID=Europe/Zurich:20240323T130000
DTEND;TZID=Europe/Zurich:20240324T140000
LOCATION:Lugano
CATEGORIES:Rotaract
END:VEVENT
BEGIN:VTIMEZONE
TZID:Europe/Zurich
BEGIN:STANDARD
DTSTART:20240323T130000
TZNAME:CET
TZOFFSETTO:+0100
TZOFFSETFROM:+0100
END:STANDARD
END:VTIMEZONE
END:VCALENDAR
