BEGIN:VCALENDAR
PRODID:-//eluceo/ical//2.0/EN
VERSION:2.0
CALSCALE:GREGORIAN
BEGIN:VEVENT
UID:4d6c19630e52c816b59631fd31b541ba
DTSTAMP:20260422T215526Z
SUMMARY:Februar Stamm mit Besuch von Governor und CRSL
DESCRIPTION:Web stranica: http://www.rotaract-solothurn.ch/club/activities/
 agenda.php
URL:https://rotaract-solothurn.ch/bs/agenda/show/172742
DTSTART;TZID=Europe/Zurich:20240223T183000
DTEND;TZID=Europe/Zurich:20240223T223000
LOCATION:Restaurant Roter Turm\, Solothurn
CATEGORIES:Rotaract
END:VEVENT
BEGIN:VTIMEZONE
TZID:Europe/Zurich
BEGIN:STANDARD
DTSTART:20240223T183000
TZNAME:CET
TZOFFSETTO:+0100
TZOFFSETFROM:+0100
END:STANDARD
END:VTIMEZONE
END:VCALENDAR
