BEGIN:VCALENDAR
PRODID:-//eluceo/ical//2.0/EN
VERSION:2.0
CALSCALE:GREGORIAN
BEGIN:VEVENT
UID:05d516b9f7d9c8500e2a53b6c26e9336
DTSTAMP:20260422T214841Z
SUMMARY:7. Oltner St. Nikolaus-Schwum
DESCRIPTION:
URL:https://rotaract-solothurn.ch/bs/agenda/show/168512
DTSTART;TZID=Europe/Zurich:20231203T110000
DTEND;TZID=Europe/Zurich:20231203T180000
LOCATION:Badi Olten
CATEGORIES:Rotaract
END:VEVENT
BEGIN:VTIMEZONE
TZID:Europe/Zurich
BEGIN:STANDARD
DTSTART:20231203T110000
TZNAME:CET
TZOFFSETTO:+0100
TZOFFSETFROM:+0100
END:STANDARD
END:VTIMEZONE
END:VCALENDAR
