BEGIN:VCALENDAR
PRODID:-//eluceo/ical//2.0/EN
VERSION:2.0
CALSCALE:GREGORIAN
BEGIN:VEVENT
UID:ff676cd4c2455638c82edfa69d01836f
DTSTAMP:20260422T194120Z
SUMMARY:Kuchenstand
DESCRIPTION:Web stranica: http://www.rotaract-solothurn.ch/club/activities/
 agenda.php
URL:https://rotaract-solothurn.ch/bs/agenda/show/167398
DTSTART;TZID=Europe/Zurich:20231021T070000
DTEND;TZID=Europe/Zurich:20231021T130000
LOCATION:Wochenmarkt Solothurn
CATEGORIES:Rotaract
END:VEVENT
BEGIN:VTIMEZONE
TZID:Europe/Zurich
BEGIN:DAYLIGHT
DTSTART:20231021T070000
TZNAME:CEST
TZOFFSETTO:+0200
TZOFFSETFROM:+0200
END:DAYLIGHT
END:VTIMEZONE
END:VCALENDAR
